BEGIN:VCALENDAR
VERSION:2.0
PRODID:-//Plone.org//NONSGML plone.app.event//EN
X-WR-TIMEZONE:Europe/Madrid
BEGIN:VEVENT
SUMMARY:Matrículació UNED
DTSTART;TZID=Europe/Madrid;VALUE=DATE-TIME:20061016T000000
DTEND;TZID=Europe/Madrid;VALUE=DATE-TIME:20061016T010000
DTSTAMP;VALUE=DATE-TIME:20260423T133336Z
UID:f87fa5bd64d3b941c39b4ab18474b670
CREATED;VALUE=DATE-TIME:20061016T000000Z
LOCATION:Vil.la Flora
DESCRIPTION:2n termini
URL:https://www.canetdemar.cat/document.php?id=2455
END:VEVENT
END:VCALENDAR