BEGIN:VCALENDAR
VERSION:2.0
PRODID:-//Plone.org//NONSGML plone.app.event//EN
X-WR-TIMEZONE:Europe/Madrid
BEGIN:VEVENT
SUMMARY:Ple Extraordinari i Urgent
DTSTART;TZID=Europe/Madrid;VALUE=DATE-TIME:20231123T180000
DTEND;TZID=Europe/Madrid;VALUE=DATE-TIME:20231123T190000
DTSTAMP;VALUE=DATE-TIME:20260424T023523Z
UID:41f0d6158116d1cb6f401efd79b0755f
CREATED;VALUE=DATE-TIME:20231123T000000Z
CATEGORIES:Agenda institucional
LOCATION:Sala de plens - Carrer Ample, 11
URL:https://www.canetdemar.cat/document.php?id=24549
END:VEVENT
END:VCALENDAR