BEGIN:VCALENDAR
VERSION:2.0
PRODID:-//Plone.org//NONSGML plone.app.event//EN
X-WR-TIMEZONE:Europe/Madrid
BEGIN:VEVENT
SUMMARY:Reunió amb la Direcció del Festival Canet Rock
DTSTART;TZID=Europe/Madrid;VALUE=DATE-TIME:20231114T120000
DTEND;TZID=Europe/Madrid;VALUE=DATE-TIME:20231114T130000
DTSTAMP;VALUE=DATE-TIME:20260425T040946Z
UID:ba0715fbd4370797de2de8c33b6b1ab5
CREATED;VALUE=DATE-TIME:20231114T000000Z
CATEGORIES:Agenda institucional
LOCATION:Despatx d'Alcaldia
URL:https://www.canetdemar.cat/document.php?id=24527
END:VEVENT
END:VCALENDAR