BEGIN:VCALENDAR
VERSION:2.0
PRODID:-//Plone.org//NONSGML plone.app.event//EN
X-WR-TIMEZONE:Europe/Madrid
BEGIN:VEVENT
SUMMARY:El conte de Nadal
DTSTART;TZID=Europe/Madrid;VALUE=DATE-TIME:20231203T180000
DTEND;TZID=Europe/Madrid;VALUE=DATE-TIME:20231203T190000
DTSTAMP;VALUE=DATE-TIME:20260424T131611Z
UID:5a0c8b182c8260b55d4d100641bb5bbd
CREATED;VALUE=DATE-TIME:20231203T000000Z
CATEGORIES:Teatre
LOCATION:TMC-Sala Centru
ORGANIZER:Associació artística teatral el Centru de Canet de Mar
DESCRIPTION:ACTES FESTES DE NADAL
URL:https://www.canetdemar.cat/document.php?id=24513
END:VEVENT
END:VCALENDAR