BEGIN:VCALENDAR
VERSION:2.0
PRODID:-//Plone.org//NONSGML plone.app.event//EN
X-WR-TIMEZONE:Europe/Madrid
BEGIN:VEVENT
SUMMARY:Obra gràfica: Exposició: 4relats
DTSTART;TZID=Europe/Madrid;VALUE=DATE-TIME:20231110T190000
DTEND;TZID=Europe/Madrid;VALUE=DATE-TIME:20231110T200000
DTSTAMP;VALUE=DATE-TIME:20260424T230230Z
UID:c1db4d857ea505648f9cde4c895d4d99
CREATED;VALUE=DATE-TIME:20231110T000000Z
CATEGORIES:Exposició
LOCATION:Sala Cultural Ramon de Capmany
ORGANIZER:Montse Badia, Carmen Boleda, Cristina Julian i Raymond Zorrilla
COMMENT:Preu: Gratuït
Durada: De 10 A 19 de novembre de 2023 - De dilluns a divendres de 18.00 a 20.00 hores i dissabte i diumenge d'11.00 a 13.00 hores
URL:https://www.canetdemar.cat/document.php?id=24497
END:VEVENT
END:VCALENDAR