BEGIN:VCALENDAR
VERSION:2.0
PRODID:-//Plone.org//NONSGML plone.app.event//EN
X-WR-TIMEZONE:Europe/Madrid
BEGIN:VEVENT
SUMMARY:Marxa de la dona
DTSTART;TZID=Europe/Madrid;VALUE=DATE-TIME:20231126T095500
DTEND;TZID=Europe/Madrid;VALUE=DATE-TIME:20231126T105500
DTSTAMP;VALUE=DATE-TIME:20260425T222910Z
UID:7952d8ff35415c527cdd3ad298e2b91c
CREATED;VALUE=DATE-TIME:20231126T000000Z
LOCATION:riera Sant Domènec
ORGANIZER:Àrea d'Igualtat, Gesport, Atletisme Sport Canet
COMMENT:Preu: 10 euros - inscripció (beneficis destinats a la lluita contra el càncer de mama)
DESCRIPTION:Contra les lluites, no estàs sola!
URL:https://www.canetdemar.cat/document.php?id=24472
END:VEVENT
END:VCALENDAR