BEGIN:VCALENDAR
VERSION:2.0
PRODID:-//Plone.org//NONSGML plone.app.event//EN
X-WR-TIMEZONE:Europe/Madrid
BEGIN:VEVENT
SUMMARY:Junta de Govern Local
DTSTART;TZID=Europe/Madrid;VALUE=DATE-TIME:20231026T170000
DTEND;TZID=Europe/Madrid;VALUE=DATE-TIME:20231026T180000
DTSTAMP;VALUE=DATE-TIME:20260423T222305Z
UID:8bf8076146ea93fd0ce2049e4295a477
CREATED;VALUE=DATE-TIME:20231026T000000Z
CATEGORIES:Agenda institucional
LOCATION:Sala annexa Alcaldia
URL:https://www.canetdemar.cat/document.php?id=24453
END:VEVENT
END:VCALENDAR