BEGIN:VCALENDAR
VERSION:2.0
PRODID:-//Plone.org//NONSGML plone.app.event//EN
X-WR-TIMEZONE:Europe/Madrid
BEGIN:VEVENT
SUMMARY:Inici del curs d'administratiu comptable
DTSTART;TZID=Europe/Madrid;VALUE=DATE-TIME:20060901T090000
DTEND;TZID=Europe/Madrid;VALUE=DATE-TIME:20060901T100000
DTSTAMP;VALUE=DATE-TIME:20260426T014445Z
UID:83f28e91804ccf23f356849025dbdf6f
CREATED;VALUE=DATE-TIME:20060901T000000Z
CATEGORIES:Cursos
LOCATION:Vil.la Flora
DESCRIPTION:De l'1 de setembre al 29 de desembre de 2006
URL:https://www.canetdemar.cat/document.php?id=2445
END:VEVENT
END:VCALENDAR