BEGIN:VCALENDAR
VERSION:2.0
PRODID:-//Plone.org//NONSGML plone.app.event//EN
X-WR-TIMEZONE:Europe/Madrid
BEGIN:VEVENT
SUMMARY:Xerrada: Escolta el teu cos que et parla. Com preparar una visita al cap
DTSTART;TZID=Europe/Madrid;VALUE=DATE-TIME:20231128T183000
DTEND;TZID=Europe/Madrid;VALUE=DATE-TIME:20231128T193000
DTSTAMP;VALUE=DATE-TIME:20260424T115011Z
UID:6cda24126e06379ff7d22427795a9c65
CREATED;VALUE=DATE-TIME:20231128T000000Z
LOCATION:Aula Magna CRTTT - Escola de Teixits
ORGANIZER:L'esplai - Associació gent gran
URL:https://www.canetdemar.cat/document.php?id=24446
END:VEVENT
END:VCALENDAR