BEGIN:VCALENDAR
VERSION:2.0
PRODID:-//Plone.org//NONSGML plone.app.event//EN
X-WR-TIMEZONE:Europe/Madrid
BEGIN:VEVENT
SUMMARY:Reunió interna àrea d'Alcaldia
DTSTART;TZID=Europe/Madrid;VALUE=DATE-TIME:20231018T090000
DTEND;TZID=Europe/Madrid;VALUE=DATE-TIME:20231018T100000
DTSTAMP;VALUE=DATE-TIME:20260426T013748Z
UID:36a99d5eadc28e2f9f71fe93d60e873a
CREATED;VALUE=DATE-TIME:20231018T000000Z
CATEGORIES:Agenda institucional
LOCATION:Sala annexa Alcaldia
URL:https://www.canetdemar.cat/document.php?id=24433
END:VEVENT
END:VCALENDAR