BEGIN:VCALENDAR
VERSION:2.0
PRODID:-//Plone.org//NONSGML plone.app.event//EN
X-WR-TIMEZONE:Europe/Madrid
BEGIN:VEVENT
SUMMARY:Junta de Govern Local
DTSTART;TZID=Europe/Madrid;VALUE=DATE-TIME:20230926T170000
DTEND;TZID=Europe/Madrid;VALUE=DATE-TIME:20230926T180000
DTSTAMP;VALUE=DATE-TIME:20260420T033141Z
UID:6ae8d20b434d3735e7b259beec3014f9
CREATED;VALUE=DATE-TIME:20230926T000000Z
CATEGORIES:Agenda institucional
LOCATION:Sala annexa Alcaldia
URL:https://www.canetdemar.cat/document.php?id=24411
END:VEVENT
END:VCALENDAR