BEGIN:VCALENDAR
VERSION:2.0
PRODID:-//Plone.org//NONSGML plone.app.event//EN
X-WR-TIMEZONE:Europe/Madrid
BEGIN:VEVENT
SUMMARY:Casament
DTSTART;TZID=Europe/Madrid;VALUE=DATE-TIME:20230914T120000
DTEND;TZID=Europe/Madrid;VALUE=DATE-TIME:20230914T130000
DTSTAMP;VALUE=DATE-TIME:20260420T030647Z
UID:12864c09c01c3b12e61911c2080d361e
CREATED;VALUE=DATE-TIME:20230914T000000Z
CATEGORIES:Agenda institucional
LOCATION:Sala de plens
URL:https://www.canetdemar.cat/document.php?id=24407
END:VEVENT
END:VCALENDAR