BEGIN:VCALENDAR
VERSION:2.0
PRODID:-//Plone.org//NONSGML plone.app.event//EN
X-WR-TIMEZONE:Europe/Madrid
BEGIN:VEVENT
SUMMARY:Recepció al Diputat d'Eduació de la Diputació de Barcelona
DTSTART;TZID=Europe/Madrid;VALUE=DATE-TIME:20231010T100000
DTEND;TZID=Europe/Madrid;VALUE=DATE-TIME:20231010T110000
DTSTAMP;VALUE=DATE-TIME:20260423T071506Z
UID:36c3b2a8a9a03e7e1a43558b4cab3d62
CREATED;VALUE=DATE-TIME:20231010T000000Z
CATEGORIES:Agenda institucional
LOCATION:Sala annexa Alcaldia
URL:https://www.canetdemar.cat/document.php?id=24406
END:VEVENT
END:VCALENDAR