BEGIN:VCALENDAR
VERSION:2.0
PRODID:-//Plone.org//NONSGML plone.app.event//EN
X-WR-TIMEZONE:Europe/Madrid
BEGIN:VEVENT
SUMMARY:Pals de flamenc, vents d'avui
DTSTART;TZID=Europe/Madrid;VALUE=DATE-TIME:20030321T220000
DTEND;TZID=Europe/Madrid;VALUE=DATE-TIME:20030321T230000
DTSTAMP;VALUE=DATE-TIME:20260426T031108Z
UID:e065e0b049f6b9a4a6952744de514f5c
CREATED;VALUE=DATE-TIME:20030321T000000Z
URL:https://www.canetdemar.cat/document.php?id=244
END:VEVENT
END:VCALENDAR