BEGIN:VCALENDAR
VERSION:2.0
PRODID:-//Plone.org//NONSGML plone.app.event//EN
X-WR-TIMEZONE:Europe/Madrid
BEGIN:VEVENT
SUMMARY:Entrevista Espai Alcaldia
DTSTART;TZID=Europe/Madrid;VALUE=DATE-TIME:20231004T110000
DTEND;TZID=Europe/Madrid;VALUE=DATE-TIME:20231004T120000
DTSTAMP;VALUE=DATE-TIME:20260424T231758Z
UID:a9a0ebafd49b715169d24e9a4f09fa4c
CREATED;VALUE=DATE-TIME:20231004T000000Z
CATEGORIES:Agenda institucional
LOCATION:Estudis Ràdio Canet - Carrer Vall.
URL:https://www.canetdemar.cat/document.php?id=24381
END:VEVENT
END:VCALENDAR