BEGIN:VCALENDAR
VERSION:2.0
PRODID:-//Plone.org//NONSGML plone.app.event//EN
X-WR-TIMEZONE:Europe/Madrid
BEGIN:VEVENT
SUMMARY:Reunió amb el Departament d'Afers Socials i Justicia de la Generalitat de Catalunya
DTSTART;TZID=Europe/Madrid;VALUE=DATE-TIME:20230927T100000
DTEND;TZID=Europe/Madrid;VALUE=DATE-TIME:20230927T110000
DTSTAMP;VALUE=DATE-TIME:20260419T210732Z
UID:dd80944152b05306b4e8b1165f87d3ad
CREATED;VALUE=DATE-TIME:20230927T000000Z
CATEGORIES:Agenda institucional
LOCATION:Sala annexa Alcaldia
URL:https://www.canetdemar.cat/document.php?id=24375
END:VEVENT
END:VCALENDAR