BEGIN:VCALENDAR
VERSION:2.0
PRODID:-//Plone.org//NONSGML plone.app.event//EN
X-WR-TIMEZONE:Europe/Madrid
BEGIN:VEVENT
SUMMARY:Reunió Interna amb l'àrea de Recursos Humans
DTSTART;TZID=Europe/Madrid;VALUE=DATE-TIME:20230926T113000
DTEND;TZID=Europe/Madrid;VALUE=DATE-TIME:20230926T123000
DTSTAMP;VALUE=DATE-TIME:20260424T103149Z
UID:4a6ddde62a994c1a137371d34e20afc0
CREATED;VALUE=DATE-TIME:20230926T000000Z
CATEGORIES:Agenda institucional
LOCATION:Sala annexa Alcaldia
URL:https://www.canetdemar.cat/document.php?id=24373
END:VEVENT
END:VCALENDAR