BEGIN:VCALENDAR
VERSION:2.0
PRODID:-//Plone.org//NONSGML plone.app.event//EN
X-WR-TIMEZONE:Europe/Madrid
BEGIN:VEVENT
SUMMARY:Reunió amb una veïna del municipi
DTSTART;TZID=Europe/Madrid;VALUE=DATE-TIME:20230926T100000
DTEND;TZID=Europe/Madrid;VALUE=DATE-TIME:20230926T110000
DTSTAMP;VALUE=DATE-TIME:20260420T015440Z
UID:70217d434fc5d65edce993cf4b9ae26b
CREATED;VALUE=DATE-TIME:20230926T000000Z
CATEGORIES:Agenda institucional
LOCATION:Despatx d'Alcaldia - Carrer Ample, 11
URL:https://www.canetdemar.cat/document.php?id=24371
END:VEVENT
END:VCALENDAR