BEGIN:VCALENDAR
VERSION:2.0
PRODID:-//Plone.org//NONSGML plone.app.event//EN
X-WR-TIMEZONE:Europe/Madrid
BEGIN:VEVENT
SUMMARY:Reunió Patronat de la Fundació Els Garrofers
DTSTART;TZID=Europe/Madrid;VALUE=DATE-TIME:20230925T170000
DTEND;TZID=Europe/Madrid;VALUE=DATE-TIME:20230925T180000
DTSTAMP;VALUE=DATE-TIME:20260420T001427Z
UID:6b366290151caf13198a5460f26949ce
CREATED;VALUE=DATE-TIME:20230925T000000Z
CATEGORIES:Agenda institucional
LOCATION:Sala annexa Alcaldia
URL:https://www.canetdemar.cat/document.php?id=24370
END:VEVENT
END:VCALENDAR