BEGIN:VCALENDAR
VERSION:2.0
PRODID:-//Plone.org//NONSGML plone.app.event//EN
X-WR-TIMEZONE:Europe/Madrid
BEGIN:VEVENT
SUMMARY:Assistència a l'Ofici de Festa Major de Calella
DTSTART;TZID=Europe/Madrid;VALUE=DATE-TIME:20230923T104500
DTEND;TZID=Europe/Madrid;VALUE=DATE-TIME:20230923T114500
DTSTAMP;VALUE=DATE-TIME:20260420T015423Z
UID:d547d29cfe3c580616b948312f669495
CREATED;VALUE=DATE-TIME:20230923T000000Z
CATEGORIES:Agenda institucional
LOCATION:Calella
URL:https://www.canetdemar.cat/document.php?id=24369
END:VEVENT
END:VCALENDAR