BEGIN:VCALENDAR
VERSION:2.0
PRODID:-//Plone.org//NONSGML plone.app.event//EN
X-WR-TIMEZONE:Europe/Madrid
BEGIN:VEVENT
SUMMARY:Recepció Col·legi d'Advocats de Barcelona
DTSTART;TZID=Europe/Madrid;VALUE=DATE-TIME:20230929T123000
DTEND;TZID=Europe/Madrid;VALUE=DATE-TIME:20230929T133000
DTSTAMP;VALUE=DATE-TIME:20260425T235957Z
UID:3ba8ba443a7bb7f79b7bdcf180347faa
CREATED;VALUE=DATE-TIME:20230929T000000Z
CATEGORIES:Agenda institucional
LOCATION:Casa Museu Lluís Domènech i Montaner
URL:https://www.canetdemar.cat/document.php?id=24367
END:VEVENT
END:VCALENDAR