BEGIN:VCALENDAR
VERSION:2.0
PRODID:-//Plone.org//NONSGML plone.app.event//EN
X-WR-TIMEZONE:Europe/Madrid
BEGIN:VEVENT
SUMMARY:Reunió Interna per tractar temes d'urbanisme
DTSTART;TZID=Europe/Madrid;VALUE=DATE-TIME:20230922T110000
DTEND;TZID=Europe/Madrid;VALUE=DATE-TIME:20230922T120000
DTSTAMP;VALUE=DATE-TIME:20260419T210604Z
UID:06480cadb5b6336105f8d1e344b9793e
CREATED;VALUE=DATE-TIME:20230922T000000Z
CATEGORIES:Agenda institucional
LOCATION:Sala annexa Alcaldia
URL:https://www.canetdemar.cat/document.php?id=24366
END:VEVENT
END:VCALENDAR