BEGIN:VCALENDAR
VERSION:2.0
PRODID:-//Plone.org//NONSGML plone.app.event//EN
X-WR-TIMEZONE:Europe/Madrid
BEGIN:VEVENT
SUMMARY:Comissió Especial de Comptes
DTSTART;TZID=Europe/Madrid;VALUE=DATE-TIME:20230921T183000
DTEND;TZID=Europe/Madrid;VALUE=DATE-TIME:20230921T193000
DTSTAMP;VALUE=DATE-TIME:20260419T222519Z
UID:7d549694f3e09bc61a8f2f7a448d2a85
CREATED;VALUE=DATE-TIME:20230921T000000Z
CATEGORIES:Agenda institucional
LOCATION:Sala de plens
URL:https://www.canetdemar.cat/document.php?id=24365
END:VEVENT
END:VCALENDAR