BEGIN:VCALENDAR
VERSION:2.0
PRODID:-//Plone.org//NONSGML plone.app.event//EN
X-WR-TIMEZONE:Europe/Madrid
BEGIN:VEVENT
SUMMARY:Reunió interna Recursos Humans
DTSTART;TZID=Europe/Madrid;VALUE=DATE-TIME:20230921T130000
DTEND;TZID=Europe/Madrid;VALUE=DATE-TIME:20230921T140000
DTSTAMP;VALUE=DATE-TIME:20260420T015353Z
UID:3aff964eba906a278a88665a36440732
CREATED;VALUE=DATE-TIME:20230921T000000Z
CATEGORIES:Agenda institucional
LOCATION:Sala annexa Alcaldia
URL:https://www.canetdemar.cat/document.php?id=24361
END:VEVENT
END:VCALENDAR