BEGIN:VCALENDAR
VERSION:2.0
PRODID:-//Plone.org//NONSGML plone.app.event//EN
X-WR-TIMEZONE:Europe/Madrid
BEGIN:VEVENT
SUMMARY:Reunió amb un veí del poble
DTSTART;TZID=Europe/Madrid;VALUE=DATE-TIME:20230920T130000
DTEND;TZID=Europe/Madrid;VALUE=DATE-TIME:20230920T140000
DTSTAMP;VALUE=DATE-TIME:20260419T210748Z
UID:37ea100ae578715a598c7322ba7fa1aa
CREATED;VALUE=DATE-TIME:20230920T000000Z
CATEGORIES:Agenda institucional
URL:https://www.canetdemar.cat/document.php?id=24360
END:VEVENT
END:VCALENDAR