BEGIN:VCALENDAR
VERSION:2.0
PRODID:-//Plone.org//NONSGML plone.app.event//EN
X-WR-TIMEZONE:Europe/Madrid
BEGIN:VEVENT
SUMMARY:Reunió amb un veí del poble
DTSTART;TZID=Europe/Madrid;VALUE=DATE-TIME:20230919T093000
DTEND;TZID=Europe/Madrid;VALUE=DATE-TIME:20230919T103000
DTSTAMP;VALUE=DATE-TIME:20260420T002358Z
UID:32ca64d5b4c734d44d1dbe1b3302c9ef
CREATED;VALUE=DATE-TIME:20230919T000000Z
CATEGORIES:Agenda institucional
URL:https://www.canetdemar.cat/document.php?id=24359
END:VEVENT
END:VCALENDAR