BEGIN:VCALENDAR
VERSION:2.0
PRODID:-//Plone.org//NONSGML plone.app.event//EN
X-WR-TIMEZONE:Europe/Madrid
BEGIN:VEVENT
SUMMARY:Sortida al teatre Romea: La dona fantasma
DTSTART;TZID=Europe/Madrid;VALUE=DATE-TIME:20231020T180000
DTEND;TZID=Europe/Madrid;VALUE=DATE-TIME:20231020T190000
DTSTAMP;VALUE=DATE-TIME:20260424T040751Z
UID:4da13cbaf2f6ee4654d17ea9944e21b5
CREATED;VALUE=DATE-TIME:20231020T000000Z
LOCATION:Parada bus Comediants
ORGANIZER:Associació de dones, Sàlvia
COMMENT:Preu: Sòcies 20 euros, no sòcies 25 euros
URL:https://www.canetdemar.cat/document.php?id=24356
END:VEVENT
END:VCALENDAR