BEGIN:VCALENDAR
VERSION:2.0
PRODID:-//Plone.org//NONSGML plone.app.event//EN
X-WR-TIMEZONE:Europe/Madrid
BEGIN:VEVENT
SUMMARY:Assistència a la desfilada de vestits modernistes i acte de cloenda
DTSTART;TZID=Europe/Madrid;VALUE=DATE-TIME:20230917T201500
DTEND;TZID=Europe/Madrid;VALUE=DATE-TIME:20230917T211500
DTSTAMP;VALUE=DATE-TIME:20260420T002343Z
UID:7901b57b3d25c4e785d9e434e32cff1c
CREATED;VALUE=DATE-TIME:20230917T000000Z
CATEGORIES:Agenda institucional
LOCATION:Plaça Universitat
URL:https://www.canetdemar.cat/document.php?id=24338
END:VEVENT
END:VCALENDAR