BEGIN:VCALENDAR
VERSION:2.0
PRODID:-//Plone.org//NONSGML plone.app.event//EN
X-WR-TIMEZONE:Europe/Madrid
BEGIN:VEVENT
SUMMARY:Participació a la cercavila de gegants
DTSTART;TZID=Europe/Madrid;VALUE=DATE-TIME:20230917T120000
DTEND;TZID=Europe/Madrid;VALUE=DATE-TIME:20230917T130000
DTSTAMP;VALUE=DATE-TIME:20260420T002330Z
UID:c6db4ab9024f252d3c1cbd93463f7cd7
CREATED;VALUE=DATE-TIME:20230917T000000Z
CATEGORIES:Agenda institucional
LOCATION:Carrers del Centre del poble
URL:https://www.canetdemar.cat/document.php?id=24337
END:VEVENT
END:VCALENDAR