BEGIN:VCALENDAR
VERSION:2.0
PRODID:-//Plone.org//NONSGML plone.app.event//EN
X-WR-TIMEZONE:Europe/Madrid
BEGIN:VEVENT
SUMMARY:Assistència a la ruta 'Els sabors indians'
DTSTART;TZID=Europe/Madrid;VALUE=DATE-TIME:20230916T190000
DTEND;TZID=Europe/Madrid;VALUE=DATE-TIME:20230916T200000
DTSTAMP;VALUE=DATE-TIME:20260420T075557Z
UID:673b9831fc8bd9b38c07396f39428a14
CREATED;VALUE=DATE-TIME:20230916T000000Z
CATEGORIES:Agenda institucional
LOCATION:Casa Font
URL:https://www.canetdemar.cat/document.php?id=24336
END:VEVENT
END:VCALENDAR