BEGIN:VCALENDAR
VERSION:2.0
PRODID:-//Plone.org//NONSGML plone.app.event//EN
X-WR-TIMEZONE:Europe/Madrid
BEGIN:VEVENT
SUMMARY:Casament
DTSTART;TZID=Europe/Madrid;VALUE=DATE-TIME:20230916T120000
DTEND;TZID=Europe/Madrid;VALUE=DATE-TIME:20230916T130000
DTSTAMP;VALUE=DATE-TIME:20260420T020531Z
UID:c7601ac47536b2e5f5d60d88c918659e
CREATED;VALUE=DATE-TIME:20230916T000000Z
CATEGORIES:Agenda institucional
LOCATION:Sala de plens
URL:https://www.canetdemar.cat/document.php?id=24335
END:VEVENT
END:VCALENDAR