BEGIN:VCALENDAR
VERSION:2.0
PRODID:-//Plone.org//NONSGML plone.app.event//EN
X-WR-TIMEZONE:Europe/Madrid
BEGIN:VEVENT
SUMMARY:Assistència a la Ruta 'Els Secrets de la Parròquia de Sant Pere, Sant Pau i Sant Benet de Canet'
DTSTART;TZID=Europe/Madrid;VALUE=DATE-TIME:20230916T173000
DTEND;TZID=Europe/Madrid;VALUE=DATE-TIME:20230916T183000
DTSTAMP;VALUE=DATE-TIME:20260420T075706Z
UID:9f74647247e5dd346681ef80b538dc04
CREATED;VALUE=DATE-TIME:20230916T000000Z
CATEGORIES:Agenda institucional
LOCATION:Parròquia de Sant Pere i Sant Pau
URL:https://www.canetdemar.cat/document.php?id=24334
END:VEVENT
END:VCALENDAR