BEGIN:VCALENDAR
VERSION:2.0
PRODID:-//Plone.org//NONSGML plone.app.event//EN
X-WR-TIMEZONE:Europe/Madrid
BEGIN:VEVENT
SUMMARY:Visita institucional modernista
DTSTART;TZID=Europe/Madrid;VALUE=DATE-TIME:20230916T130000
DTEND;TZID=Europe/Madrid;VALUE=DATE-TIME:20230916T140000
DTSTAMP;VALUE=DATE-TIME:20260420T080111Z
UID:d7449dba6c2262a4a2714377da439e89
CREATED;VALUE=DATE-TIME:20230916T000000Z
CATEGORIES:Agenda institucional
LOCATION:Recorregut Fira Modernista (Carrers i places del centre del poble)
URL:https://www.canetdemar.cat/document.php?id=24333
END:VEVENT
END:VCALENDAR