BEGIN:VCALENDAR
VERSION:2.0
PRODID:-//Plone.org//NONSGML plone.app.event//EN
X-WR-TIMEZONE:Europe/Madrid
BEGIN:VEVENT
SUMMARY:Rebuda autoritats i veïnes i veïns vestits d'època
DTSTART;TZID=Europe/Madrid;VALUE=DATE-TIME:20230915T183000
DTEND;TZID=Europe/Madrid;VALUE=DATE-TIME:20230915T193000
DTSTAMP;VALUE=DATE-TIME:20260420T030757Z
UID:c8cce0f6a8356f5c06c12dc47550bcb9
CREATED;VALUE=DATE-TIME:20230915T000000Z
CATEGORIES:Agenda institucional
LOCATION:Jardins de l'Escola de Teixits
URL:https://www.canetdemar.cat/document.php?id=24330
END:VEVENT
END:VCALENDAR