BEGIN:VCALENDAR
VERSION:2.0
PRODID:-//Plone.org//NONSGML plone.app.event//EN
X-WR-TIMEZONE:Europe/Madrid
BEGIN:VEVENT
SUMMARY:Concert de l'Orquestra de Cambra de Silesia
DTSTART;TZID=Europe/Madrid;VALUE=DATE-TIME:20060812T220000
DTEND;TZID=Europe/Madrid;VALUE=DATE-TIME:20060812T230000
DTSTAMP;VALUE=DATE-TIME:20260421T114616Z
UID:86cb0401e0bbb49dab71bd4f2d9bfba4
CREATED;VALUE=DATE-TIME:20060812T000000Z
CATEGORIES:Música
LOCATION:pati d'armes del Castell
COMMENT:Preu: 50 euros
DESCRIPTION:VIII Festival de Música Clàssica Castell de Santa Florentina
URL:https://www.canetdemar.cat/document.php?id=2433
END:VEVENT
END:VCALENDAR