BEGIN:VCALENDAR
VERSION:2.0
PRODID:-//Plone.org//NONSGML plone.app.event//EN
X-WR-TIMEZONE:Europe/Madrid
BEGIN:VEVENT
SUMMARY:Inauguració exposició 'Domènech i Montaner: Modernisme i Modernitat'
DTSTART;TZID=Europe/Madrid;VALUE=DATE-TIME:20230915T173000
DTEND;TZID=Europe/Madrid;VALUE=DATE-TIME:20230915T183000
DTSTAMP;VALUE=DATE-TIME:20260420T044034Z
UID:db3f2e37210feae6b41f193da34ce1c8
CREATED;VALUE=DATE-TIME:20230915T000000Z
CATEGORIES:Agenda institucional
LOCATION:Casa Museu Lluís Domènech i Montaner
URL:https://www.canetdemar.cat/document.php?id=24327
END:VEVENT
END:VCALENDAR