BEGIN:VCALENDAR
VERSION:2.0
PRODID:-//Plone.org//NONSGML plone.app.event//EN
X-WR-TIMEZONE:Europe/Madrid
BEGIN:VEVENT
SUMMARY:15a edició de la Fira Mercat Modernista
DTSTART;TZID=Europe/Madrid;VALUE=DATE-TIME:20230915T183000
DTEND;TZID=Europe/Madrid;VALUE=DATE-TIME:20230915T193000
DTSTAMP;VALUE=DATE-TIME:20260422T125436Z
UID:2286e0413d03ce58223ea7f759bed3ff
CREATED;VALUE=DATE-TIME:20230915T000000Z
CATEGORIES:Festa
DESCRIPTION:Avís: la inauguració es fa a la Sala Centru del TMC
URL:https://www.canetdemar.cat/document.php?id=24322
END:VEVENT
END:VCALENDAR