BEGIN:VCALENDAR
VERSION:2.0
PRODID:-//Plone.org//NONSGML plone.app.event//EN
X-WR-TIMEZONE:Europe/Madrid
BEGIN:VEVENT
SUMMARY:Reunió amb veïns i veïnes del Carrer Castanyer
DTSTART;TZID=Europe/Madrid;VALUE=DATE-TIME:20230912T140000
DTEND;TZID=Europe/Madrid;VALUE=DATE-TIME:20230912T150000
DTSTAMP;VALUE=DATE-TIME:20260421T141354Z
UID:a1968decbca27270709ca1aeb802c4e6
CREATED;VALUE=DATE-TIME:20230912T000000Z
CATEGORIES:Agenda institucional
LOCATION:Sala annexa Alcaldia
URL:https://www.canetdemar.cat/document.php?id=24313
END:VEVENT
END:VCALENDAR