BEGIN:VCALENDAR
VERSION:2.0
PRODID:-//Plone.org//NONSGML plone.app.event//EN
X-WR-TIMEZONE:Europe/Madrid
BEGIN:VEVENT
SUMMARY:Entrega de premis de la 36a edició del concurs de cuita de cargols
DTSTART;TZID=Europe/Madrid;VALUE=DATE-TIME:20230910T201500
DTEND;TZID=Europe/Madrid;VALUE=DATE-TIME:20230910T211500
DTSTAMP;VALUE=DATE-TIME:20260422T203719Z
UID:0136c2e1454a1efae183251dea3e42ce
CREATED;VALUE=DATE-TIME:20230910T000000Z
CATEGORIES:Agenda institucional
LOCATION:Riera Sant Domènec
URL:https://www.canetdemar.cat/document.php?id=24303
END:VEVENT
END:VCALENDAR