BEGIN:VCALENDAR
VERSION:2.0
PRODID:-//Plone.org//NONSGML plone.app.event//EN
X-WR-TIMEZONE:Europe/Madrid
BEGIN:VEVENT
SUMMARY:Renovació del Vot de Vila
DTSTART;TZID=Europe/Madrid;VALUE=DATE-TIME:20230910T120000
DTEND;TZID=Europe/Madrid;VALUE=DATE-TIME:20230910T130000
DTSTAMP;VALUE=DATE-TIME:20260423T140419Z
UID:13e2dc4cd3da89e4f0cc3733dd0dc767
CREATED;VALUE=DATE-TIME:20230910T000000Z
CATEGORIES:Agenda institucional
LOCATION:Santuari de la Misericòrdia
URL:https://www.canetdemar.cat/document.php?id=24301
END:VEVENT
END:VCALENDAR