BEGIN:VCALENDAR
VERSION:2.0
PRODID:-//Plone.org//NONSGML plone.app.event//EN
X-WR-TIMEZONE:Europe/Madrid
BEGIN:VEVENT
SUMMARY:Festa de Proclamació del Pubillatge Local
DTSTART;TZID=Europe/Madrid;VALUE=DATE-TIME:20230909T183000
DTEND;TZID=Europe/Madrid;VALUE=DATE-TIME:20230909T193000
DTSTAMP;VALUE=DATE-TIME:20260425T223401Z
UID:7dcf0da1ba212ce012c34b672e6b3fba
CREATED;VALUE=DATE-TIME:20230909T000000Z
CATEGORIES:Agenda institucional
LOCATION:Aula Magna CRTTT - Escola de Teixits
URL:https://www.canetdemar.cat/document.php?id=24300
END:VEVENT
END:VCALENDAR