BEGIN:VCALENDAR
VERSION:2.0
PRODID:-//Plone.org//NONSGML plone.app.event//EN
X-WR-TIMEZONE:Europe/Madrid
BEGIN:VEVENT
SUMMARY:Assistència a la celebració de l'eucaristia en honor a la Mare de Déu de la Misericòrdia, Patrona del Maresme
DTSTART;TZID=Europe/Madrid;VALUE=DATE-TIME:20230908T193000
DTEND;TZID=Europe/Madrid;VALUE=DATE-TIME:20230908T203000
DTSTAMP;VALUE=DATE-TIME:20260422T054324Z
UID:cc38c93921c0154663a502245660bab9
CREATED;VALUE=DATE-TIME:20230908T000000Z
CATEGORIES:Agenda institucional
LOCATION:Santuari de la Mare de Déu de la Misericòrdia
URL:https://www.canetdemar.cat/document.php?id=24298
END:VEVENT
END:VCALENDAR