BEGIN:VCALENDAR
VERSION:2.0
PRODID:-//Plone.org//NONSGML plone.app.event//EN
X-WR-TIMEZONE:Europe/Madrid
BEGIN:VEVENT
SUMMARY:Assistència Inauguració exposició 'Mur al descobert'
DTSTART;TZID=Europe/Madrid;VALUE=DATE-TIME:20230907T190000
DTEND;TZID=Europe/Madrid;VALUE=DATE-TIME:20230907T200000
DTSTAMP;VALUE=DATE-TIME:20260422T020851Z
UID:97dd3076892da1a8fcecb657fd37ff5f
CREATED;VALUE=DATE-TIME:20230907T000000Z
CATEGORIES:Agenda institucional
LOCATION:Sala Cultural Ramon de Capmany
URL:https://www.canetdemar.cat/document.php?id=24297
END:VEVENT
END:VCALENDAR