BEGIN:VCALENDAR
VERSION:2.0
PRODID:-//Plone.org//NONSGML plone.app.event//EN
X-WR-TIMEZONE:Europe/Madrid
BEGIN:VEVENT
SUMMARY:Toca donar. Dona sang
DTSTART;TZID=Europe/Madrid;VALUE=DATE-TIME:20230915T100000
DTEND;TZID=Europe/Madrid;VALUE=DATE-TIME:20230915T110000
DTSTAMP;VALUE=DATE-TIME:20260424T143156Z
UID:3a460ccee16b87ffd4ff872ff0ea139c
CREATED;VALUE=DATE-TIME:20230915T000000Z
LOCATION:EspaiCaixa Gent Gran - VAll 24
ORGANIZER:Banc de sang i teixits
COMMENT:Durada: de 10.00 a 14.00 hores i de 17.00 a 21.00 hores
URL:https://www.canetdemar.cat/document.php?id=24286
END:VEVENT
END:VCALENDAR