BEGIN:VCALENDAR
VERSION:2.0
PRODID:-//Plone.org//NONSGML plone.app.event//EN
X-WR-TIMEZONE:Europe/Madrid
BEGIN:VEVENT
SUMMARY:Visita veïna carrer Abell Baix
DTSTART;TZID=Europe/Madrid;VALUE=DATE-TIME:20230823T110000
DTEND;TZID=Europe/Madrid;VALUE=DATE-TIME:20230823T120000
DTSTAMP;VALUE=DATE-TIME:20260425T010758Z
UID:57ee149670307a07f3a3396e166d36e1
CREATED;VALUE=DATE-TIME:20230823T000000Z
CATEGORIES:Agenda institucional
LOCATION:Casa de la veïna
URL:https://www.canetdemar.cat/document.php?id=24284
END:VEVENT
END:VCALENDAR