BEGIN:VCALENDAR
VERSION:2.0
PRODID:-//Plone.org//NONSGML plone.app.event//EN
X-WR-TIMEZONE:Europe/Madrid
BEGIN:VEVENT
SUMMARY:Tertúlia-Presentació de l'exposició Domènech i Montaner, patrimoni mundial. A la recerca de l'art nacional perdut
DTSTART;TZID=Europe/Madrid;VALUE=DATE-TIME:20230811T190000
DTEND;TZID=Europe/Madrid;VALUE=DATE-TIME:20230811T200000
DTSTAMP;VALUE=DATE-TIME:20260422T183306Z
UID:6fe16d4d528c631425181e0fc3552fe7
CREATED;VALUE=DATE-TIME:20230811T000000Z
CATEGORIES:Conferència
LOCATION:Casa museu Lluís Domènech i Montaner
ORGANIZER:Lab Domènech (Ajuntament de Canet de Mar i Centre d'Estudis Lluís Domènech i Montaner)
COMMENT:Preu: Gratuït
Durada: 1 hora
URL:https://www.canetdemar.cat/document.php?id=24265
END:VEVENT
END:VCALENDAR