BEGIN:VCALENDAR
VERSION:2.0
PRODID:-//Plone.org//NONSGML plone.app.event//EN
X-WR-TIMEZONE:Europe/Madrid
BEGIN:VEVENT
SUMMARY:Festa d'Entitats Juvenils
DTSTART;TZID=Europe/Madrid;VALUE=DATE-TIME:20230909T100000
DTEND;TZID=Europe/Madrid;VALUE=DATE-TIME:20230909T110000
DTSTAMP;VALUE=DATE-TIME:20260423T133646Z
UID:cfea36ef316e2131c7e8d0a01c6c9c3e
CREATED;VALUE=DATE-TIME:20230909T000000Z
CATEGORIES:Festa
LOCATION:La Masoveria
ORGANIZER:Bitxus, Kneteo i Àrea de Joventut
DESCRIPTION:Festa Major petita i Diada Nacional
URL:https://www.canetdemar.cat/document.php?id=24248
END:VEVENT
END:VCALENDAR