BEGIN:VCALENDAR
VERSION:2.0
PRODID:-//Plone.org//NONSGML plone.app.event//EN
X-WR-TIMEZONE:Europe/Madrid
BEGIN:VEVENT
SUMMARY:FESTA DE LA MARE DE DÉU DE LA MISERICÒRDIA
DTSTART;TZID=Europe/Madrid;VALUE=DATE-TIME:20230908T100000
DTEND;TZID=Europe/Madrid;VALUE=DATE-TIME:20230908T110000
DTSTAMP;VALUE=DATE-TIME:20260424T214936Z
UID:51dd00fba0a9a2609e80fe0b1cfdffbb
CREATED;VALUE=DATE-TIME:20230908T000000Z
CATEGORIES:Festa
LOCATION:Santuari de la Misericòrdia
DESCRIPTION:Festa Major petita i Diada Nacional
URL:https://www.canetdemar.cat/document.php?id=24245
END:VEVENT
END:VCALENDAR