BEGIN:VCALENDAR
VERSION:2.0
PRODID:-//Plone.org//NONSGML plone.app.event//EN
X-WR-TIMEZONE:Europe/Madrid
BEGIN:VEVENT
SUMMARY:Comissió Informativa Ordinària
DTSTART;TZID=Europe/Madrid;VALUE=DATE-TIME:20230720T173000
DTEND;TZID=Europe/Madrid;VALUE=DATE-TIME:20230720T183000
DTSTAMP;VALUE=DATE-TIME:20260422T203431Z
UID:622b017e4258e7fe864bcfe19fb64c72
CREATED;VALUE=DATE-TIME:20230720T000000Z
CATEGORIES:Agenda institucional
LOCATION:Sala de plens - Carrer Ample, 11
URL:https://www.canetdemar.cat/document.php?id=24211
END:VEVENT
END:VCALENDAR