BEGIN:VCALENDAR
VERSION:2.0
PRODID:-//Plone.org//NONSGML plone.app.event//EN
X-WR-TIMEZONE:Europe/Madrid
BEGIN:VEVENT
SUMMARY:Cinema a la fresca
DTSTART;TZID=Europe/Madrid;VALUE=DATE-TIME:20060818T220000
DTEND;TZID=Europe/Madrid;VALUE=DATE-TIME:20060818T230000
DTSTAMP;VALUE=DATE-TIME:20260424T103202Z
UID:69d8708ebb04f1360655aedf412dd613
CREATED;VALUE=DATE-TIME:20060818T000000Z
CATEGORIES:Cinema
LOCATION:pati de l'Escola de Teixits
ORGANIZER:
ACPO

DESCRIPTION:tots els divendres d'agost
URL:https://www.canetdemar.cat/document.php?id=2421
END:VEVENT
END:VCALENDAR